BEGIN:VCALENDAR
VERSION:2.0
PRODID:-//Goldschmidts - ECPv6.15.20//NONSGML v1.0//EN
CALSCALE:GREGORIAN
METHOD:PUBLISH
X-WR-CALNAME:Goldschmidts
X-ORIGINAL-URL:https://goldschmidts.dk
X-WR-CALDESC:Begivenheder for Goldschmidts
REFRESH-INTERVAL;VALUE=DURATION:PT1H
X-Robots-Tag:noindex
X-PUBLISHED-TTL:PT1H
BEGIN:VTIMEZONE
TZID:Europe/Copenhagen
BEGIN:DAYLIGHT
TZOFFSETFROM:+0100
TZOFFSETTO:+0200
TZNAME:CEST
DTSTART:20250330T010000
END:DAYLIGHT
BEGIN:STANDARD
TZOFFSETFROM:+0200
TZOFFSETTO:+0100
TZNAME:CET
DTSTART:20251026T010000
END:STANDARD
BEGIN:DAYLIGHT
TZOFFSETFROM:+0100
TZOFFSETTO:+0200
TZNAME:CEST
DTSTART:20260329T010000
END:DAYLIGHT
BEGIN:STANDARD
TZOFFSETFROM:+0200
TZOFFSETTO:+0100
TZNAME:CET
DTSTART:20261025T010000
END:STANDARD
BEGIN:DAYLIGHT
TZOFFSETFROM:+0100
TZOFFSETTO:+0200
TZNAME:CEST
DTSTART:20270328T010000
END:DAYLIGHT
BEGIN:STANDARD
TZOFFSETFROM:+0200
TZOFFSETTO:+0100
TZNAME:CET
DTSTART:20271031T010000
END:STANDARD
END:VTIMEZONE
BEGIN:VEVENT
DTSTART;TZID=Europe/Copenhagen:20260421T180000
DTEND;TZID=Europe/Copenhagen:20260421T193000
DTSTAMP:20260421T104346
CREATED:20251219T093643Z
LAST-MODIFIED:20251219T093643Z
UID:6082-1776794400-1776799800@goldschmidts.dk
SUMMARY:Forårskoncert 2026
DESCRIPTION:Goldschmidts Musikakademi inviterer til forårskoncert i Guldsalen på musikskolen. Fri entré!
URL:https://goldschmidts.dk/event/foraarskoncert-2026/
LOCATION:Goldschmidts Musikakademi\, Rentemestervej 62\, København NV\, 2400
CATEGORIES:Fri entre,Musikcafe
END:VEVENT
BEGIN:VEVENT
DTSTART;TZID=Europe/Copenhagen:20260422T193000
DTEND;TZID=Europe/Copenhagen:20260422T210000
DTSTAMP:20260421T104346
CREATED:20260408T134103Z
LAST-MODIFIED:20260409T141120Z
UID:6143-1776886200-1776891600@goldschmidts.dk
SUMMARY:Koncert med Silk Road Orcestra og Bilal Irshed
DESCRIPTION:Kom til koncert med Silk Road Orchestra og Bilal Irshed i Koncertkirken onsdag d. 22. april kl. 19.30-21.00. \nEntré 100kr / studerende 50 kr
URL:https://goldschmidts.dk/event/koncert-med-silk-road-orcestra-og-bilal-irshed/
LOCATION:Koncertkirken\, Blågårds Plads 6A\, København\, 2200
CATEGORIES:Koncert
ORGANIZER;CN="Koncertkirken":MAILTO:koncertkirken@gmail.com
END:VEVENT
BEGIN:VEVENT
DTSTART;TZID=Europe/Copenhagen:20260423T180000
DTEND;TZID=Europe/Copenhagen:20260423T193000
DTSTAMP:20260421T104346
CREATED:20260129T125911Z
LAST-MODIFIED:20260129T125911Z
UID:6117-1776967200-1776972600@goldschmidts.dk
SUMMARY:Musikcafé med Ukrainian Soul
DESCRIPTION:Vi holder Musikcafe for fuld udblæsning med musik og efterfølgende fællesspisning. \nNatalia Safina og Larysa Soloviova er sammen med koret Ukrainian Soul værter for musikcaféen d. 23. april. \nAlle elever og forældre på GMA er velkomne. Husk at medbringe mad til fælles buffet! Fri entré \nMusikcaféen starter kl. 18.00 men kom gerne 17.30 og giv en hånd med!
URL:https://goldschmidts.dk/event/musikcafe-med-ukrainian-soul/
LOCATION:Goldschmidts Musikakademi\, Rentemestervej 62\, København NV\, 2400
CATEGORIES:Fri entre,Musikcafe
END:VEVENT
BEGIN:VEVENT
DTSTART;TZID=Europe/Copenhagen:20260425T151500
DTEND;TZID=Europe/Copenhagen:20260425T154500
DTSTAMP:20260421T104346
CREATED:20260409T140344Z
LAST-MODIFIED:20260409T140358Z
UID:6147-1777130100-1777131900@goldschmidts.dk
SUMMARY:Koncert med Stjernekoret i Tivoli
DESCRIPTION:Stjernekoret under ledelse af Kirse Kampp optræder til børnekordage i Tivoli lørdag d. 25. april kl. 15.15 i Orangeriet. \nKoncerten er gratis men kræver entré til Tivoli. \n 
URL:https://goldschmidts.dk/event/stjernekoret-i-tivoli/
LOCATION:Tivoli\, Vesterbrogade 3\, København\, 1620
CATEGORIES:Koncert
END:VEVENT
BEGIN:VEVENT
DTSTART;TZID=Europe/Copenhagen:20260527T180000
DTEND;TZID=Europe/Copenhagen:20260527T200000
DTSTAMP:20260421T104346
CREATED:20260116T142959Z
LAST-MODIFIED:20260116T143048Z
UID:6097-1779904800-1779912000@goldschmidts.dk
SUMMARY:Sommerkoncert 2026
DESCRIPTION:Goldschmidts Musikakademi inviterer til sommerkoncert på Nørrebro Teater med skolens bands\, kor og orkestre. Tag venner og familie under armen og kom forbi til et festfyrværkeri af en koncert! \nProgram \n17.30 Døre åbner \n18.00 Koncert 1. del \n18.45 Pause \n19.15 Koncert 2. del \n20.00 Tak for i aften! \n 
URL:https://goldschmidts.dk/event/sommerkoncert-2026/
LOCATION:Nørrebro Teater\, Ravnsborggade 3\, København N\, 2200
CATEGORIES:Fri entre,Koncert
END:VEVENT
BEGIN:VEVENT
DTSTART;TZID=Europe/Copenhagen:20260816T140000
DTEND;TZID=Europe/Copenhagen:20260816T150000
DTSTAMP:20260421T104346
CREATED:20251219T094837Z
LAST-MODIFIED:20251219T094837Z
UID:6088-1786888800-1786892400@goldschmidts.dk
SUMMARY:Copenhagen Opera Festival 2026
DESCRIPTION:Kor og orkestre fra Goldschmidts Musikakademi optræder endnu en gang på Copenhagen Opera Festival. Kom forbi hovedscenen på Den Røde Plads på Nørrebro til en eftermiddag med skøn musik fra hele verden! \nOBS: Tidspunkt annonceres senere
URL:https://goldschmidts.dk/event/copenhagen-opera-festival-2026/
CATEGORIES:Fri entre,Koncert
END:VEVENT
BEGIN:VEVENT
DTSTART;TZID=Europe/Copenhagen:20260823T160000
DTEND;TZID=Europe/Copenhagen:20260823T170000
DTSTAMP:20260421T104346
CREATED:20260304T074222Z
LAST-MODIFIED:20260304T074222Z
UID:6121-1787500800-1787504400@goldschmidts.dk
SUMMARY:Koncert i Lillerød Kirke med elever og lærere fra Goldschmidts Musikakademi
DESCRIPTION:Elever og lærere fra Goldschmidts Musikakademi optræder til en festlig sommerkoncert i Lillerød Kirke 23. august kl. 16-17. Koncerten præsenteres af Henrik Goldschmidt
URL:https://goldschmidts.dk/event/koncert-i-lilleroed-kirke-med-elever-og-laerere-fra-goldschmidts-musikakademi/
LOCATION:Lillerød Kirke\, Kirkehaven 3\, Lillerød\, 3450
CATEGORIES:Fri entre,Koncert
END:VEVENT
BEGIN:VEVENT
DTSTART;TZID=Europe/Copenhagen:20260828T170000
DTEND;TZID=Europe/Copenhagen:20260830T110000
DTSTAMP:20260421T104346
CREATED:20251219T094432Z
LAST-MODIFIED:20251219T094432Z
UID:6086-1787936400-1788087600@goldschmidts.dk
SUMMARY:Lejrskole 2026
DESCRIPTION:Lejrskole 2026 for elever på Goldschmidts Musikakademi – en weekend med musik\, leg og utroligt meget hygge! \nInformation om tilmelding (og årets udklædningstema!) sendes på mail – stay tuned.
URL:https://goldschmidts.dk/event/lejrskole-2026/
LOCATION:Tisvilde Højskole\, Julsgårdsvej 1-5\, Tisvildeleje\, 3220
CATEGORIES:Intern begivenhed
END:VEVENT
BEGIN:VEVENT
DTSTART;TZID=Europe/Copenhagen:20261217T180000
DTEND;TZID=Europe/Copenhagen:20261217T200000
DTSTAMP:20260421T104346
CREATED:20260312T075448Z
LAST-MODIFIED:20260312T075448Z
UID:6135-1797530400-1797537600@goldschmidts.dk
SUMMARY:Julekoncert i Hellig Kors Kirke
DESCRIPTION:I år holder skolen 2 julekoncerter; den ene i Hellig Kors Kirke og den anden i Guldsalen på musikskolen.
URL:https://goldschmidts.dk/event/julekoncert-i-hellig-kors-kirke/
LOCATION:Hellig Kors Kirke\, Kapelvej 38\, København N\, 2200
CATEGORIES:Fri entre,Koncert
END:VEVENT
END:VCALENDAR